BEGIN:VCALENDAR
VERSION:2.0
PRODID:-//Eventin//Event Calendar//EN
CALSCALE:GREGORIAN
METHOD:PUBLISH
BEGIN:VEVENT
UID:2c9e504ab35173fc5ab005d6d004c9e6@somosimpacto360.com
SUMMARY:SEMINARIO MAYO 2026
DESCRIPTION:Este ticket incluye:\n✅ Entrada al Seminario de MAYO - 16 de 
 Mayo 2026Con Daniela Velazquez y Alejandro Giraldo\, empresarios internacio
 nales que compartirán estrategias reales de crecimiento\, mentalidad y des
 arrollo empresarial.\n¿Qué encontrarás en este evento?\n• Estrategias 
 reales de crecimiento empresarial• Mentalidad de alto rendimiento• Hist
 orias de éxito y liderazgo• Comunidad de emprendedores con visión\nSi e
 stás listo para elevar tu visión\, rodearte de personas que están crecie
 ndo y construir un futuro diferente\, este evento es para ti.\n🚀 Reserva
  tu entrada ahora.⚠️ Cupos limitados.
LOCATION:Edificio FIC 48. Auditorio Terraza-  Carrera 48 #18A-14  Poblado\,
  Medellín
DTSTAMP:20260419T121656Z
DTSTART:20260418T110000Z
DTEND:20260516T230000Z
END:VEVENT
END:VCALENDAR
